BEGIN:VCALENDAR
VERSION:2.0
PRODID:-//hacksw/handcal//NONSGML v1.0//EN
BEGIN:VEVENT
UID:4021
DTSTART;VALUE=DATE:20150620
URL;VALUE=URI:ohschonhell.at/?page_id=7156
SUMMARY:PSYSTATION@DIE KANTINE
LOCATION:DIE KANTINE
END:VEVENT
END:VCALENDAR


