BEGIN:VCALENDAR
VERSION:2.0
PRODID:-//hacksw/handcal//NONSGML v1.0//EN
BEGIN:VEVENT
UID:4057
DTSTART;VALUE=DATE:20150611
URL;VALUE=URI:ohschonhell.at/?page_id=7212
SUMMARY:Magique Sounds // Cocktails // BART UND BUSEN // im SEVEN
LOCATION:Seven
END:VEVENT
END:VCALENDAR


