BEGIN:VCALENDAR
VERSION:2.0
PRODID:-//hacksw/handcal//NONSGML v1.0//EN
BEGIN:VEVENT
UID:4061
DTSTART;VALUE=DATE:20150605
URL;VALUE=URI:ohschonhell.at/?page_id=7221
SUMMARY:PSYSTATION @ RAGNARHOF PART III
LOCATION:RAGNARHOF
END:VEVENT
END:VCALENDAR


