BEGIN:VCALENDAR
VERSION:2.0
PRODID:-//hacksw/handcal//NONSGML v1.0//EN
BEGIN:VEVENT
UID:4083
DTSTART;VALUE=DATE:20150704
URL;VALUE=URI:ohschonhell.at/?page_id=7260
SUMMARY:☼ GEMEINSAM ☼ in den Sommer - Open Air
LOCATION:SUMMER STATION
END:VEVENT
END:VCALENDAR


