BEGIN:VCALENDAR
VERSION:2.0
PRODID:-//hacksw/handcal//NONSGML v1.0//EN
BEGIN:VEVENT
UID:4085
DTSTART;VALUE=DATE:20150627
URL;VALUE=URI:ohschonhell.at/?page_id=7262
SUMMARY:SEAYOU ABC / BRUT PREMIUM EDITION / w EBOW LIVE ++ JUN 27
LOCATION:BRUT
END:VEVENT
END:VCALENDAR


