BEGIN:VCALENDAR
VERSION:2.0
PRODID:-//hacksw/handcal//NONSGML v1.0//EN
BEGIN:VEVENT
UID:4092
DTSTART;VALUE=DATE:20150616
URL;VALUE=URI:ohschonhell.at/?page_id=7271
SUMMARY:das techno cafe SOMMERLIEBE *2015
LOCATION:VOLKSGARTEN PAVILLON
END:VEVENT
END:VCALENDAR


