BEGIN:VCALENDAR
VERSION:2.0
PRODID:-//hacksw/handcal//NONSGML v1.0//EN
BEGIN:VEVENT
UID:4107
DTSTART;VALUE=DATE:20150701
URL;VALUE=URI:ohschonhell.at/?page_id=7291
SUMMARY:DISCO MUSCLE
LOCATION:ELEKTRO GÖNNER
END:VEVENT
END:VCALENDAR


