BEGIN:VCALENDAR
VERSION:2.0
PRODID:-//hacksw/handcal//NONSGML v1.0//EN
BEGIN:VEVENT
UID:4123
DTSTART;VALUE=DATE:20150613
URL;VALUE=URI:ohschonhell.at/?page_id=7314
SUMMARY:Get Whipped in June!
LOCATION:VOLKSGARTEN
END:VEVENT
END:VCALENDAR


