BEGIN:VCALENDAR
VERSION:2.0
PRODID:-//hacksw/handcal//NONSGML v1.0//EN
BEGIN:VEVENT
UID:4127
DTSTART;VALUE=DATE:20150627
URL;VALUE=URI:ohschonhell.at/?page_id=7320
SUMMARY:M&amp\;M Party
LOCATION:ROTE BAR
END:VEVENT
END:VCALENDAR


