BEGIN:VCALENDAR
VERSION:2.0
PRODID:-//hacksw/handcal//NONSGML v1.0//EN
BEGIN:VEVENT
UID:4128
DTSTART;VALUE=DATE:20150613
URL;VALUE=URI:ohschonhell.at/?page_id=7321
SUMMARY:OPEN AIR AFTERHOUR: Wunderland Morning Show
LOCATION:ENDSTATION HALTESTELLE 1er
END:VEVENT
END:VCALENDAR


