BEGIN:VCALENDAR
VERSION:2.0
PRODID:-//hacksw/handcal//NONSGML v1.0//EN
BEGIN:VEVENT
UID:4139
DTSTART;VALUE=DATE:20150619
URL;VALUE=URI:ohschonhell.at/?page_id=7332
SUMMARY:FLUID
LOCATION:AU
END:VEVENT
END:VCALENDAR


