BEGIN:VCALENDAR
VERSION:2.0
PRODID:-//hacksw/handcal//NONSGML v1.0//EN
BEGIN:VEVENT
UID:4168
DTSTART;VALUE=DATE:20150619
URL;VALUE=URI:ohschonhell.at/?page_id=7382
SUMMARY:◒ Sweet Heat ft. ZAMSpielen\, H∆NN∆\, Anna Leiser\, Mike Burns ◓
LOCATION:BRUT
END:VEVENT
END:VCALENDAR


