BEGIN:VCALENDAR
VERSION:2.0
PRODID:-//hacksw/handcal//NONSGML v1.0//EN
BEGIN:VEVENT
UID:4180
DTSTART;VALUE=DATE:20150829
URL;VALUE=URI:ohschonhell.at/?page_id=7396
SUMMARY:Die Wiener Stadtmusikanten | 29.08.
LOCATION:VIENNA CITY BEACH CLUB
END:VEVENT
END:VCALENDAR


