BEGIN:VCALENDAR
VERSION:2.0
PRODID:-//hacksw/handcal//NONSGML v1.0//EN
BEGIN:VEVENT
UID:4182
DTSTART;VALUE=DATE:20150619
URL;VALUE=URI:ohschonhell.at/?page_id=7398
SUMMARY:Stadt Land Fluss @ Elektro Gönner
LOCATION:ELEKTRO GÖNNER
END:VEVENT
END:VCALENDAR


