BEGIN:VCALENDAR
VERSION:2.0
PRODID:-//hacksw/handcal//NONSGML v1.0//EN
BEGIN:VEVENT
UID:4184
DTSTART;VALUE=DATE:20150620
URL;VALUE=URI:ohschonhell.at/?page_id=7401
SUMMARY:WIRRER SOMMER
LOCATION:DUAL
END:VEVENT
END:VCALENDAR


