BEGIN:VCALENDAR
VERSION:2.0
PRODID:-//hacksw/handcal//NONSGML v1.0//EN
BEGIN:VEVENT
UID:4193
DTSTART;VALUE=DATE:20150812
URL;VALUE=URI:ohschonhell.at/?page_id=7417
SUMMARY:TANZCAFE MARIA _ Das Jessas Sommerlager.
LOCATION:VOLKSGARTEN PAVILLON
END:VEVENT
END:VCALENDAR


