BEGIN:VCALENDAR
VERSION:2.0
PRODID:-//hacksw/handcal//NONSGML v1.0//EN
BEGIN:VEVENT
UID:4199
DTSTART;VALUE=DATE:20150707
URL;VALUE=URI:ohschonhell.at/?page_id=7428
SUMMARY:MEAT MARKET im EXIL feat. KOBOSIL (Ostgut Ton / BLN)
LOCATION:FLEX
END:VEVENT
END:VCALENDAR


