BEGIN:VCALENDAR
VERSION:2.0
PRODID:-//hacksw/handcal//NONSGML v1.0//EN
BEGIN:VEVENT
UID:4210
DTSTART;VALUE=DATE:20150627
URL;VALUE=URI:ohschonhell.at/?page_id=7444
SUMMARY:ELEKTROLAND PARTY @ ELEKTRO GÖNNER
LOCATION:ELEKTRO GÖNNER
END:VEVENT
END:VCALENDAR


