BEGIN:VCALENDAR
VERSION:2.0
PRODID:-//hacksw/handcal//NONSGML v1.0//EN
BEGIN:VEVENT
UID:4214
DTSTART;VALUE=DATE:20150725
URL;VALUE=URI:ohschonhell.at/?page_id=7448
SUMMARY:Fairys\, Unicorns &amp\; Freaks mit Sonic Seven &amp\; Walter Sascha (SUPERFREAK)
LOCATION:RADIO - THE LABEL BAR
END:VEVENT
END:VCALENDAR


