BEGIN:VCALENDAR
VERSION:2.0
PRODID:-//hacksw/handcal//NONSGML v1.0//EN
BEGIN:VEVENT
UID:4222
DTSTART;VALUE=DATE:20150913
URL;VALUE=URI:ohschonhell.at/?page_id=7456
SUMMARY:teCHnO brUNcH mit Domink LÖBLICH
LOCATION:RADIO - THE LABEL BAR
END:VEVENT
END:VCALENDAR


