BEGIN:VCALENDAR
VERSION:2.0
PRODID:-//hacksw/handcal//NONSGML v1.0//EN
BEGIN:VEVENT
UID:4224
DTSTART;VALUE=DATE:20150625
URL;VALUE=URI:ohschonhell.at/?page_id=7458
SUMMARY:Elektronischer Tanzunterricht Miss dicA(Berlin)
LOCATION:RADIO - THE LABEL BAR
END:VEVENT
END:VCALENDAR


