BEGIN:VCALENDAR
VERSION:2.0
PRODID:-//hacksw/handcal//NONSGML v1.0//EN
BEGIN:VEVENT
UID:4226
DTSTART;VALUE=DATE:20150627
URL;VALUE=URI:ohschonhell.at/?page_id=7461
SUMMARY:Plattendrehen im Deli /w Alex Kolodziej
LOCATION:DELI AM NASCHMARKT
END:VEVENT
END:VCALENDAR


