BEGIN:VCALENDAR
VERSION:2.0
PRODID:-//hacksw/handcal//NONSGML v1.0//EN
BEGIN:VEVENT
UID:4245
DTSTART;VALUE=DATE:20150711
URL;VALUE=URI:ohschonhell.at/?page_id=7486
SUMMARY:Things We Love Pre-Party feat. Alexkid  (Cadenza &amp\; Fuse London)
LOCATION:SASS
END:VEVENT
END:VCALENDAR


