BEGIN:VCALENDAR
VERSION:2.0
PRODID:-//hacksw/handcal//NONSGML v1.0//EN
BEGIN:VEVENT
UID:4249
DTSTART;VALUE=DATE:20150702
URL;VALUE=URI:ohschonhell.at/?page_id=7491
SUMMARY:OFF CAMPUS - Open Air
LOCATION:ENDSTATION HALTESTELLE 1er
END:VEVENT
END:VCALENDAR


