BEGIN:VCALENDAR
VERSION:2.0
PRODID:-//hacksw/handcal//NONSGML v1.0//EN
BEGIN:VEVENT
UID:4279
DTSTART;VALUE=DATE:20150630
URL;VALUE=URI:ohschonhell.at/?page_id=7528
SUMMARY:Fabian&#039\;s Blumenwiese
LOCATION:PORTO POLLO
END:VEVENT
END:VCALENDAR


