BEGIN:VCALENDAR
VERSION:2.0
PRODID:-//hacksw/handcal//NONSGML v1.0//EN
BEGIN:VEVENT
UID:4286
DTSTART;VALUE=DATE:20150704
URL;VALUE=URI:ohschonhell.at/?page_id=7542
SUMMARY:Solo Delikatessen Verkostung
LOCATION:KIOSK SCHLEIFMÜHLGASSE
END:VEVENT
END:VCALENDAR


