BEGIN:VCALENDAR
VERSION:2.0
PRODID:-//hacksw/handcal//NONSGML v1.0//EN
BEGIN:VEVENT
UID:4300
DTSTART;VALUE=DATE:20150711
URL;VALUE=URI:ohschonhell.at/?page_id=7571
SUMMARY:TECHNOLOG Summer Breeze Sound Picknick
LOCATION:PORTO POLLO
END:VEVENT
END:VCALENDAR


