BEGIN:VCALENDAR
VERSION:2.0
PRODID:-//hacksw/handcal//NONSGML v1.0//EN
BEGIN:VEVENT
UID:4305
DTSTART;VALUE=DATE:20150704
URL;VALUE=URI:ohschonhell.at/?page_id=7584
SUMMARY:JACKIN WTF @Flex Café
LOCATION:FLEX CAFE
END:VEVENT
END:VCALENDAR


