BEGIN:VCALENDAR
VERSION:2.0
PRODID:-//hacksw/handcal//NONSGML v1.0//EN
BEGIN:VEVENT
UID:4306
DTSTART;VALUE=DATE:20150707
URL;VALUE=URI:ohschonhell.at/?page_id=7588
SUMMARY:Techno Cafe
LOCATION:VOLKSGARTEN PAVILLON
END:VEVENT
END:VCALENDAR


