BEGIN:VCALENDAR
VERSION:2.0
PRODID:-//hacksw/handcal//NONSGML v1.0//EN
BEGIN:VEVENT
UID:4322
DTSTART;VALUE=DATE:20150806
URL;VALUE=URI:ohschonhell.at/?page_id=7622
SUMMARY:ASTRA
LOCATION:ELEKTRO GÖNNER
END:VEVENT
END:VCALENDAR


