BEGIN:VCALENDAR
VERSION:2.0
PRODID:-//hacksw/handcal//NONSGML v1.0//EN
BEGIN:VEVENT
UID:4323
DTSTART;VALUE=DATE:20150722
URL;VALUE=URI:ohschonhell.at/?page_id=7624
SUMMARY:opaque mit tobsen
LOCATION:ELEKTRO GÖNNER
END:VEVENT
END:VCALENDAR


