BEGIN:VCALENDAR
VERSION:2.0
PRODID:-//hacksw/handcal//NONSGML v1.0//EN
BEGIN:VEVENT
UID:4329
DTSTART;VALUE=DATE:20150709
URL;VALUE=URI:ohschonhell.at/?page_id=7636
SUMMARY:#knartz - FREIE RAUM FAHRT AGENT UR WIEN
LOCATION:AUGARTENBRÜCKE
END:VEVENT
END:VCALENDAR


