BEGIN:VCALENDAR
VERSION:2.0
PRODID:-//hacksw/handcal//NONSGML v1.0//EN
BEGIN:VEVENT
UID:4330
DTSTART;VALUE=DATE:20150725
URL;VALUE=URI:ohschonhell.at/?page_id=7639
SUMMARY:MAX MANIE &amp\; SCHEINIZZL - FREIER EINTRITT - Die Kantine
LOCATION:DIE KANTINE
END:VEVENT
END:VCALENDAR


