BEGIN:VCALENDAR
VERSION:2.0
PRODID:-//hacksw/handcal//NONSGML v1.0//EN
BEGIN:VEVENT
UID:4332
DTSTART;VALUE=DATE:20150725
URL;VALUE=URI:ohschonhell.at/?page_id=7643
SUMMARY:LÄNDLE TAKEOVER by STADTPARK MUSIK &amp\; SOUNDTERRASSE
LOCATION:SASS
END:VEVENT
END:VCALENDAR


