BEGIN:VCALENDAR
VERSION:2.0
PRODID:-//hacksw/handcal//NONSGML v1.0//EN
BEGIN:VEVENT
UID:4334
DTSTART;VALUE=DATE:20150717
URL;VALUE=URI:ohschonhell.at/?page_id=7647
SUMMARY:eLeKTro göNNer aLL bARS #5 w/ SOULPEELING live\; DIETER MIT PLATTEN \; KAJA KO &amp\; KOMA
LOCATION:ELEKTRO GÖNNER
END:VEVENT
END:VCALENDAR


