BEGIN:VCALENDAR
VERSION:2.0
PRODID:-//hacksw/handcal//NONSGML v1.0//EN
BEGIN:VEVENT
UID:434
DTSTART;VALUE=DATE:20140109
URL;VALUE=URI:ohschonhell.at/?page_id=2890
SUMMARY:BRUTTO 5
LOCATION:BRUT
END:VEVENT
END:VCALENDAR


