BEGIN:VCALENDAR
VERSION:2.0
PRODID:-//hacksw/handcal//NONSGML v1.0//EN
BEGIN:VEVENT
UID:4343
DTSTART;VALUE=DATE:20150716
URL;VALUE=URI:ohschonhell.at/?page_id=7666
SUMMARY:◄ SEVEN BAR{t}\, BASS ♬♫ &amp\; BUSEN ❥
LOCATION:Seven
END:VEVENT
END:VCALENDAR


