BEGIN:VCALENDAR
VERSION:2.0
PRODID:-//hacksw/handcal//NONSGML v1.0//EN
BEGIN:VEVENT
UID:4351
DTSTART;VALUE=DATE:20150725
URL;VALUE=URI:ohschonhell.at/?page_id=7683
SUMMARY:Sonnenklang &amp\; Sternentanz - Free Open Air hosted by ACH &amp\; KRACH
LOCATION:SUMMER STATION
END:VEVENT
END:VCALENDAR


