BEGIN:VCALENDAR
VERSION:2.0
PRODID:-//hacksw/handcal//NONSGML v1.0//EN
BEGIN:VEVENT
UID:4352
DTSTART;VALUE=DATE:20150718
URL;VALUE=URI:ohschonhell.at/?page_id=7685
SUMMARY:DISCO FRISCO ⚡ 100% Vinyl
LOCATION:SCHIKANEDER
END:VEVENT
END:VCALENDAR


