BEGIN:VCALENDAR
VERSION:2.0
PRODID:-//hacksw/handcal//NONSGML v1.0//EN
BEGIN:VEVENT
UID:4355
DTSTART;VALUE=DATE:20150717
URL;VALUE=URI:ohschonhell.at/?page_id=7691
SUMMARY:BRÜTEZEIT - Barakas feat. Gassen aus Zucker DJ Squad @ Brut
LOCATION:BRUT
END:VEVENT
END:VCALENDAR


