BEGIN:VCALENDAR
VERSION:2.0
PRODID:-//hacksw/handcal//NONSGML v1.0//EN
BEGIN:VEVENT
UID:4358
DTSTART;VALUE=DATE:20150805
URL;VALUE=URI:ohschonhell.at/?page_id=7699
SUMMARY:MITGROOVE - hosted by ACH &amp\; KRACH
LOCATION:SUMMER STATION
END:VEVENT
END:VCALENDAR


