BEGIN:VCALENDAR
VERSION:2.0
PRODID:-//hacksw/handcal//NONSGML v1.0//EN
BEGIN:VEVENT
UID:4363
DTSTART;VALUE=DATE:20150814
URL;VALUE=URI:ohschonhell.at/?page_id=7709
SUMMARY:Deeprog meets Psygsichta @ Die Kantine
LOCATION:DIE KANTINE
END:VEVENT
END:VCALENDAR


