BEGIN:VCALENDAR
VERSION:2.0
PRODID:-//hacksw/handcal//NONSGML v1.0//EN
BEGIN:VEVENT
UID:4374
DTSTART;VALUE=DATE:20150904
URL;VALUE=URI:ohschonhell.at/?page_id=7731
SUMMARY:Beat Science presents Kitsuné Club Night HW&amp\;W Tour @ Grelle Forelle\, Vienna
LOCATION:GRELLE FORELLE
END:VEVENT
END:VCALENDAR


