BEGIN:VCALENDAR
VERSION:2.0
PRODID:-//hacksw/handcal//NONSGML v1.0//EN
BEGIN:VEVENT
UID:4380
DTSTART;VALUE=DATE:20150724
URL;VALUE=URI:ohschonhell.at/?page_id=7743
SUMMARY:MAINFRAME CLUBNIGHTS pres. XILENT´S ALBUM RELEASE PARTY
LOCATION:DIE KANTINE
END:VEVENT
END:VCALENDAR


