BEGIN:VCALENDAR
VERSION:2.0
PRODID:-//hacksw/handcal//NONSGML v1.0//EN
BEGIN:VEVENT
UID:4381
DTSTART;VALUE=DATE:20150826
URL;VALUE=URI:ohschonhell.at/?page_id=7745
SUMMARY:S(w)ounds Like VCBC
LOCATION:VIENNA CITY BEACH CLUB
END:VEVENT
END:VCALENDAR


