BEGIN:VCALENDAR
VERSION:2.0
PRODID:-//hacksw/handcal//NONSGML v1.0//EN
BEGIN:VEVENT
UID:4392
DTSTART;VALUE=DATE:20150724
URL;VALUE=URI:ohschonhell.at/?page_id=7768
SUMMARY:POPFEST TAG 2 - Fr\, 24. Juli @ Club Sass feat. DJ SPINELLY\, MOTSA\, CLARA MOTO
LOCATION:SASS
END:VEVENT
END:VCALENDAR


