BEGIN:VCALENDAR
VERSION:2.0
PRODID:-//hacksw/handcal//NONSGML v1.0//EN
BEGIN:VEVENT
UID:4399
DTSTART;VALUE=DATE:20150725
URL;VALUE=URI:ohschonhell.at/?page_id=7784
SUMMARY:Whut?! - Sommerloch
LOCATION:CAFE LEOPOLD
END:VEVENT
END:VCALENDAR


