BEGIN:VCALENDAR
VERSION:2.0
PRODID:-//hacksw/handcal//NONSGML v1.0//EN
BEGIN:VEVENT
UID:4400
DTSTART;VALUE=DATE:20150725
URL;VALUE=URI:ohschonhell.at/?page_id=7786
SUMMARY:&quot\;Universal Dancer&quot\; Doris Uhlich
LOCATION:GRELLE FORELLE
END:VEVENT
END:VCALENDAR


