BEGIN:VCALENDAR
VERSION:2.0
PRODID:-//hacksw/handcal//NONSGML v1.0//EN
BEGIN:VEVENT
UID:4409
DTSTART;VALUE=DATE:20150821
URL;VALUE=URI:ohschonhell.at/?page_id=7807
SUMMARY:PSYGSICHTA @ CAMERA Birthday Bash CANCELLED...CANCELLED...CANCELLED...CANCELLED...CANCELLED...CANCELLED...
LOCATION:CAMERA CLUB
END:VEVENT
END:VCALENDAR


