BEGIN:VCALENDAR
VERSION:2.0
PRODID:-//hacksw/handcal//NONSGML v1.0//EN
BEGIN:VEVENT
UID:4413
DTSTART;VALUE=DATE:20150725
URL;VALUE=URI:ohschonhell.at/?page_id=7815
SUMMARY:MODE TALKING feat. First Music A:lex EP Release
LOCATION:VOLKSGARTEN
END:VEVENT
END:VCALENDAR


